BEGIN:VCALENDAR
PRODID:-//eluceo/ical//2.0/EN
VERSION:2.0
CALSCALE:GREGORIAN
BEGIN:VEVENT
UID:4db5130bcbdb64a927d460035ffd21d8
DTSTAMP:20260419T145012Z
SUMMARY:MS-Infoabend: Forschung an der Insel und was gibt es Neues?
URL:https://neurologie.insel.ch/en/translate-to-englisch-veranstaltungen/de
 tails/detail/ms-infoabend-forschung-an-der-insel-und-was-gibt-es-neues-26
DTSTART;TZID=+01:00:20261208T183000
DTEND;TZID=+01:00:20261208T193000
LOCATION:Julie-von-Jenner-Haus\, Kursraum 3\, Inselspital Bern
END:VEVENT
END:VCALENDAR
