BEGIN:VCALENDAR
PRODID:-//eluceo/ical//2.0/EN
VERSION:2.0
CALSCALE:GREGORIAN
BEGIN:VEVENT
UID:6f2aee6b6775382e759c14b799c802f8
DTSTAMP:20260419T130649Z
SUMMARY:MS-Infoabend: Ernährung und MS
URL:https://neurologie.insel.ch/de/veranstaltungen/details/detail/ms-infoab
 end-ernaehrung-und-ms
DTSTART;TZID=+02:00:20260915T183000
DTEND;TZID=+02:00:20260915T193000
LOCATION:Julie-von-Jenner-Haus\, Kursraum 3\, Inselspital Bern
END:VEVENT
END:VCALENDAR
